BEGIN:VCALENDAR
VERSION:2.0
PRODID:-//wp-events-plugin.com//7.2.2.1//EN
TZID:America/New_York
X-WR-TIMEZONE:America/New_York
BEGIN:VEVENT
UID:3@gracechapelladson.com
DTSTART;TZID=America/New_York;VALUE=DATE:20250105
DTEND;TZID=America/New_York;VALUE=DATE:20250106
DTSTAMP:20250102T224143Z
URL:https://gracechapelladson.com/events/benevolence-offering-2025-01-05/
SUMMARY:Benevolence Offering
DESCRIPTION:
END:VEVENT
BEGIN:VTIMEZONE
TZID:America/New_York
X-LIC-LOCATION:America/New_York
BEGIN:STANDARD
DTSTART:20241103T010000
TZOFFSETFROM:-0400
TZOFFSETTO:-0500
TZNAME:EST
END:STANDARD
END:VTIMEZONE
END:VCALENDAR