BEGIN:VCALENDAR
VERSION:2.0
PRODID:-//wp-events-plugin.com//7.2.2.1//EN
TZID:America/New_York
X-WR-TIMEZONE:America/New_York
BEGIN:VEVENT
UID:33@gracechapelladson.com
DTSTART;TZID=America/New_York:20250201T110000
DTEND;TZID=America/New_York:20250201T110000
DTSTAMP:20250103T001729Z
URL:https://gracechapelladson.com/events/ladies-r-o-c-meeting-2025-02-01/
SUMMARY:Ladies R.O.C. Meeting
DESCRIPTION:11:00 AM
END:VEVENT
BEGIN:VTIMEZONE
TZID:America/New_York
X-LIC-LOCATION:America/New_York
BEGIN:STANDARD
DTSTART:20241103T010000
TZOFFSETFROM:-0400
TZOFFSETTO:-0500
TZNAME:EST
END:STANDARD
END:VTIMEZONE
END:VCALENDAR