BEGIN:VCALENDAR
VERSION:2.0
PRODID:-//wp-events-plugin.com//7.2.2.1//EN
TZID:America/New_York
X-WR-TIMEZONE:America/New_York
BEGIN:VEVENT
UID:35@gracechapelladson.com
DTSTART;TZID=America/New_York:20250405T110000
DTEND;TZID=America/New_York:20250405T110000
DTSTAMP:20250103T001729Z
URL:https://gracechapelladson.com/events/ladies-r-o-c-meeting-2025-04-05/
SUMMARY:Ladies R.O.C. Meeting
DESCRIPTION:11:00 AM
END:VEVENT
BEGIN:VTIMEZONE
TZID:America/New_York
X-LIC-LOCATION:America/New_York
BEGIN:DAYLIGHT
DTSTART:20250309T030000
TZOFFSETFROM:-0500
TZOFFSETTO:-0400
TZNAME:EDT
END:DAYLIGHT
END:VTIMEZONE
END:VCALENDAR